BEGIN:VCALENDAR
PRODID:-//eluceo/ical//2.0/EN
VERSION:2.0
CALSCALE:GREGORIAN
BEGIN:VEVENT
UID:event-7
DTSTAMP:20260420T082057Z
SUMMARY:Reünie Rijdende\,- en Veld Artillerie
DESCRIPTION:Inschrijving gesloten.      Algemene info: Programma van de 
 dag 13:00 – 14:00 Ontvangst met koffie/thee en cake bij de brandweerkaz
 erne 14:00 – 14:15 Opening door de Wapenoudste der Artillerie\, Gen-Maj
  W. Rietdijk 13:30 – 18:00 Bar open\, gezellig samenzijn\, bezoek aan K
 VA/KRA-musea &amp\; Veteranenontmoetingscentrum 16:00 Maaltijd - Incl dra
 nkje -  Extra consumpties mogelijk via pin. 18:00 Taptoe en einde reün
 ie Praktische informatie Reis je met de trein? Er is vervoer van/naar sta
 tion ’t Harde. Met de auto? Volg de borden naar de parkeerplaats op het
  ASK. Registratie &amp\; consumptiebonnen: Bij de achterpoort van de LbO 
 (brandweerkazerne).Vergeet je geldig ID-bewijs niet mee te nemen op de d
 ag zelf. 📅 Aanmelden kan tot 1 september 2025 Problemen met aanmelden?
  Mail naar fhe.hendriks@mindef.nl VERBONDEN DOOR HET WAPEN WIJ ZIJN ARTIL
 LERIE.
DTSTART:20250913T110000Z
DTEND:20250913T160000Z
END:VEVENT
BEGIN:VTIMEZONE
TZID:UTC
BEGIN:STANDARD
DTSTART:20250913T110000
TZNAME:UTC
TZOFFSETTO:+0000
TZOFFSETFROM:+0000
END:STANDARD
END:VTIMEZONE
END:VCALENDAR
